BEGIN:VCALENDAR
VERSION:2.0
CALSCALE:GREGORIAN
BEGIN:VEVENT
CREATED:20260414T185502Z
UID:2253
DTSTART;TZID=America/Chicago:20260925T000000
DTEND;TZID=America/Chicago:20260927T000000
DTSTAMP:20260420T094806Z
LOCATION:St. Charles Convention Center  - 1 Convention Center Plaza \, St. Charles\, MO 63303
DESCRIPTION:The Greatest American Sportscard Show is a destination for collectors to buy, sell, trade, appraise, and get cards autographed, with up to 350 vendors on site. It features sports cards, Pokémon, vintage memorabilia, and more, bringing together a community of passionate collectors. The St. Charles Convention Center does not manage ticket sales, but a box office will be available on-site during the show. For advance tickets or vendor information, visit the GAS website. <a class="btn is-blue" href="https://www.gas-shows.com">Learn More</a>
SUMMARY:Greatest American Sportscard Show | September
ORGANIZER:St. Charles Convention Center
URL;VALUE=URI:https://stcharlesconventioncenter.com/event/greatest-american-sportscard-show-september/
TRANSP:OPAQUE
BEGIN:VALARM
ACTION:DISPLAY
TRIGGER;VALUE=DATE-TIME:20260924T230000
DESCRIPTION:Reminder for Earth Day &#038\; Sustainability
END:VALARM
END:VEVENT
END:VCALENDAR