BEGIN:VCALENDAR
VERSION:2.0
CALSCALE:GREGORIAN
BEGIN:VEVENT
CREATED:20260414T164209Z
UID:2238
DTSTART;TZID=America/Chicago:20261114T000000
DTEND;TZID=America/Chicago:20261115T000000
DTSTAMP:20260420T112105Z
LOCATION:St. Charles Convention Center - 1 Convention Center Plaza \, St. Charles \, MO 63303
DESCRIPTION:The North American Reptile Breeders Conference (NARBC) shows are a great place for the public and breeders to meet some of the world’s top reptile breeders. Each year, breeders showcase their top projects and newest reptiles at the event. The St. Charles Convention Center does not manage ticket sales, but a box office will be available on-site during the show. For advance tickets or vendor information, visit the NARBC website. <a class="btn is-blue" href="https://www.narbc.com/index.html#" target="_blank" rel="noopener">Learn More</a>  
SUMMARY:North American Reptile Breeders Conference
ORGANIZER:St. Charles Convention Center
URL;VALUE=URI:https://stcharlesconventioncenter.com/event/north-american-reptile-breeders-conference/
TRANSP:OPAQUE
BEGIN:VALARM
ACTION:DISPLAY
TRIGGER;VALUE=DATE-TIME:20261113T230000
DESCRIPTION:Reminder for Earth Day &#038\; Sustainability
END:VALARM
END:VEVENT
END:VCALENDAR