BEGIN:VCALENDAR
VERSION:2.0
CALSCALE:GREGORIAN
BEGIN:VEVENT
CREATED:20260414T144217Z
UID:2229
DTSTART;TZID=America/Chicago:20260806T000000
DTEND;TZID=America/Chicago:20260808T000000
DTSTAMP:20260422T083523Z
LOCATION:Saint Charles Convention Center  - 1 Convention Center Plaza \, St. Charles\, MO  63303
DESCRIPTION:Join fellow coin enthusiasts at the Missouri Numismatic Society’s Annual Coin Show, one of the Midwest’s largest events of its kind, featuring over 150 dealers buying and selling coins. Please note that ticketing for this event is not managed by the St. Charles Convention Center. A box office will be available on-site each day of the event. To learn more, visit the Missouri Numismatic Society’s website. <a class="btn is-blue" href="https://www.missourinumismaticsociety.org/annual-coin-show" target="_blank" rel="noopener">Learn More</a>
SUMMARY:Missouri Numismatic Society’s Annual Coin Show
ORGANIZER:St. Charles Convention Center
URL;VALUE=URI:https://stcharlesconventioncenter.com/event/missouri-numismatic-society-2026/
TRANSP:OPAQUE
BEGIN:VALARM
ACTION:DISPLAY
TRIGGER;VALUE=DATE-TIME:20260805T230000
DESCRIPTION:Reminder for Earth Day &#038\; Sustainability
END:VALARM
END:VEVENT
END:VCALENDAR