BEGIN:VCALENDAR
VERSION:2.0
CALSCALE:GREGORIAN
BEGIN:VEVENT
CREATED:20241217T214601Z
UID:2022
DTSTART;TZID=America/Chicago:20250123T000000
DTEND;TZID=America/Chicago:20250125T000000
DTSTAMP:20260420T023815Z
LOCATION:Saint Charles Convention Center  - One Convention Center Plaza\, St. Charles \, MO 63376
DESCRIPTION:Prepare to be inspired, engage with fellow lavender enthusiasts, and cultivate the aroma of success in your business at the US Lavender Conference 2025! USLC 2025 will be held at the beautiful St. Charles Convention Center January 24-25 in St. Charles, Missouri. The convention center is directly connected to the award-winning Embassy Suites by Hilton St. Louis - St. Charles. This perfect pairing offers not just ease of access with free parking and proximity to St. Louis Lambert International Airport (less than 10 minutes door to door) but also a comfortable stay in a bustling environment. The conference officially kicks off with registration on the evening of January 23rd with a meet and greet for new attendees followed by a cocktail reception with featured guests. Those wanting a more detailed and personal experience can register for our optional Pre-conference workshops. <a class="btn is-blue" href="https://uslga.memberclicks.net/uslc-2025">Purchase Tickets</a>
SUMMARY:US Lavender Conference
ORGANIZER:St. Charles Convention Center
URL;VALUE=URI:https://stcharlesconventioncenter.com/event/lavender-conference/
TRANSP:OPAQUE
BEGIN:VALARM
ACTION:DISPLAY
TRIGGER;VALUE=DATE-TIME:20250122T230000
DESCRIPTION:Reminder for Earth Day &#038\; Sustainability
END:VALARM
END:VEVENT
END:VCALENDAR